BEGIN:VCALENDAR
VERSION:2.0
PRODID:-// - ECPv3.11.2//NONSGML v1.0//EN
CALSCALE:GREGORIAN
METHOD:PUBLISH
X-WR-CALNAME:
X-ORIGINAL-URL:https://businessinsuranceschool.com
X-WR-CALDESC:Events for 
BEGIN:VEVENT
DTSTART:20161212T094500Z
DTEND:20161216T184500Z
DTSTAMP:20260425T153424Z
CREATED:20160202T075802Z
LAST-MODIFIED:20160202T075802Z
UID:13573-1481535900-1481913900@businessinsuranceschool.com
SUMMARY:Property And Casualty Broker-Agent Insurance Course (40 Hrs.)
DESCRIPTION:40 Hours Mandatory In-Class \n\nProperty & Casualty﻿﻿﻿﻿ Course\n\nSome may include SATURDAYS \n
URL:https://businessinsuranceschool.com/index.php/event/property-and-casualty-broker-agent-insurance-course-40-hrs-15/
END:VEVENT
END:VCALENDAR