BEGIN:VCALENDAR
VERSION:2.0
PRODID:-// - ECPv3.11.2//NONSGML v1.0//EN
CALSCALE:GREGORIAN
METHOD:PUBLISH
X-WR-CALNAME:
X-ORIGINAL-URL:https://businessinsuranceschool.com
X-WR-CALDESC:Events for 
BEGIN:VEVENT
DTSTART:20160919T094500Z
DTEND:20160923T184500Z
DTSTAMP:20260425T201615Z
CREATED:20160202T073747Z
LAST-MODIFIED:20160202T073747Z
UID:13555-1474278300-1474656300@businessinsuranceschool.com
SUMMARY:Property And Casualty Broker-Agent Insurance Course (40 Hrs.)
DESCRIPTION:40 Hours Mandatory In-Class \n\nProperty & Casualty﻿﻿﻿﻿ Course\n\nSome may include SATURDAYS \n
URL:https://businessinsuranceschool.com/index.php/event/property-and-casualty-broker-agent-insurance-course-40-hrs-12/
END:VEVENT
BEGIN:VEVENT
DTSTART:20160923T184500Z
DTEND:20160923T224500Z
DTSTAMP:20260425T201615Z
CREATED:20160202T074025Z
LAST-MODIFIED:20160202T074025Z
UID:13558-1474656300-1474670700@businessinsuranceschool.com
SUMMARY:Code And Ethics Insurance Code (12 Hrs.)
DESCRIPTION:12 Hours CA Mandatory\n\nCodes and Ethics In-Class\,\n\nthe Class shall end at 05:00 pm on the 2nd day\n
URL:https://businessinsuranceschool.com/index.php/event/code-and-ethics-insurance-code-12-hrs-37/
END:VEVENT
END:VCALENDAR