BEGIN:VCALENDAR
VERSION:2.0
PRODID:-// - ECPv3.11.2//NONSGML v1.0//EN
CALSCALE:GREGORIAN
METHOD:PUBLISH
X-WR-CALNAME:
X-ORIGINAL-URL:https://businessinsuranceschool.com
X-WR-CALDESC:Events for 
BEGIN:VEVENT
DTSTART:20160827T094500Z
DTEND:20160827T184500Z
DTSTAMP:20260425T220837Z
CREATED:20160202T073445Z
LAST-MODIFIED:20160202T073445Z
UID:13551-1472291100-1472323500@businessinsuranceschool.com
SUMMARY:Code And Ethics Insurance Code (12 Hrs.)
DESCRIPTION:12 Hours CA Mandatory\n\nCodes and Ethics In-Class\,\n\nthe Class shall end at 05:00 pm on the 2nd day\n
URL:https://businessinsuranceschool.com/index.php/event/code-and-ethics-insurance-code-12-hrs-34/
END:VEVENT
END:VCALENDAR