BEGIN:VCALENDAR
VERSION:2.0
PRODID:-// - ECPv3.11.2//NONSGML v1.0//EN
CALSCALE:GREGORIAN
METHOD:PUBLISH
X-WR-CALNAME:
X-ORIGINAL-URL:https://businessinsuranceschool.com
X-WR-CALDESC:Events for 
BEGIN:VEVENT
DTSTART:20160718T094500Z
DTEND:20160722T184500Z
DTSTAMP:20260426T034327Z
CREATED:20160202T065623Z
LAST-MODIFIED:20160202T065741Z
UID:13542-1468835100-1469213100@businessinsuranceschool.com
SUMMARY:Property And Casualty Broker-Agent Insurance Course (40 Hrs.)
DESCRIPTION:40 Hours Mandatory In-Class \n\nProperty & Casualty﻿﻿﻿﻿ Course\n\nSome may include SATURDAYS \n
URL:https://businessinsuranceschool.com/index.php/event/property-and-casualty-broker-agent-insurance-course-40-hrs-9/
END:VEVENT
END:VCALENDAR