BEGIN:VCALENDAR
VERSION:2.0
PRODID:-// - ECPv3.11.2//NONSGML v1.0//EN
CALSCALE:GREGORIAN
METHOD:PUBLISH
X-WR-CALNAME:
X-ORIGINAL-URL:https://businessinsuranceschool.com
X-WR-CALDESC:Events for 
BEGIN:VEVENT
DTSTART:20160705T094500Z
DTEND:20160709T184500Z
DTSTAMP:20260425T235037Z
CREATED:20160202T065528Z
LAST-MODIFIED:20160202T065528Z
UID:13541-1467711900-1468089900@businessinsuranceschool.com
SUMMARY:Life\, Accident And Health Agent Insurance Course (40 Hrs.)
DESCRIPTION:
URL:https://businessinsuranceschool.com/index.php/event/life-accident-and-health-agent-insurance-course-40-hrs-5/
END:VEVENT
END:VCALENDAR