BEGIN:VCALENDAR
VERSION:2.0
PRODID:-// - ECPv3.11.2//NONSGML v1.0//EN
CALSCALE:GREGORIAN
METHOD:PUBLISH
X-WR-CALNAME:
X-ORIGINAL-URL:https://businessinsuranceschool.com
X-WR-CALDESC:Events for 
BEGIN:VEVENT
DTSTART:20160523T094500Z
DTEND:20160527T184500Z
DTSTAMP:20260426T034438Z
CREATED:20160202T064412Z
LAST-MODIFIED:20160202T064412Z
UID:13532-1463996700-1464374700@businessinsuranceschool.com
SUMMARY:Life\, Accident And Health Agent Insurance Course (40 Hrs.)
DESCRIPTION:
URL:https://businessinsuranceschool.com/index.php/event/life-accident-and-health-agent-insurance-course-40-hrs-4/
END:VEVENT
END:VCALENDAR